BEGIN:VCALENDAR
VERSION:2.0
PRODID:-//Lifeport@ - ECPv6.10.2//NONSGML v1.0//EN
CALSCALE:GREGORIAN
METHOD:PUBLISH
X-WR-CALNAME:Lifeport@
X-ORIGINAL-URL:https://rvnhub.nl
X-WR-CALDESC:Evenementen voor Lifeport@
REFRESH-INTERVAL;VALUE=DURATION:PT1H
X-Robots-Tag:noindex
X-PUBLISHED-TTL:PT1H
BEGIN:VTIMEZONE
TZID:Europe/Amsterdam
BEGIN:DAYLIGHT
TZOFFSETFROM:+0100
TZOFFSETTO:+0200
TZNAME:CEST
DTSTART:20180325T010000
END:DAYLIGHT
BEGIN:STANDARD
TZOFFSETFROM:+0200
TZOFFSETTO:+0100
TZNAME:CET
DTSTART:20181028T010000
END:STANDARD
BEGIN:DAYLIGHT
TZOFFSETFROM:+0100
TZOFFSETTO:+0200
TZNAME:CEST
DTSTART:20190331T010000
END:DAYLIGHT
BEGIN:STANDARD
TZOFFSETFROM:+0200
TZOFFSETTO:+0100
TZNAME:CET
DTSTART:20191027T010000
END:STANDARD
END:VTIMEZONE
BEGIN:VEVENT
DTSTART;TZID=Europe/Amsterdam:20190611T143000
DTEND;TZID=Europe/Amsterdam:20190611T163000
DTSTAMP:20260424T103455
CREATED:20190607T144017Z
LAST-MODIFIED:20190607T144017Z
UID:6481-1560263400-1560270600@rvnhub.nl
SUMMARY:Meet Up Mook en Middelaar
DESCRIPTION:Eens per veertien dagen is het programmabureau van RvN@ aanwezig op locatie in een van de zeven gemeenten van het Rijk van Nijmegen\, in een  RvN@HUB of een gemeentehuis. Hier kan je met RvN@ kennismaken\, jouw regionale initiatief of idee persoonlijk aan iemand van RvN@ voorleggen en (hulp)vragen stellen. Op basis daarvan worden eventuele vervolggesprekken en acties gepland. De Meet Ups worden drukbezocht en omdat RvN@ zoveel mogelijk mensen wil spreken\, is er daar geen ruimte voor uitgebreide presentaties en is aanmelden verplicht. \nBen jij een ondernemer of heb jij een innovatief initiatief voor de regio? En wil je een afspraak maken op een Meet Up? Vul dan het onderstaande formulier in. \n\n                \n                        Voornaam*TussenvoegselAchternaam*Telefoon*E-mailadres*\n                            \n                        Komt voor:*Kennismaking met RvN@Bespreking van een idee of projectWaar wil je over praten?*Wil je de RvN@ nieuwsbrief en aankondigingen van evenementen ontvangen?\n			\n				\n				Ja\n			\n			\n				\n				Die ontvang ik al\n			\n			\n				\n				Nee\n			CAPTCHAPhoneDit veld is bedoeld voor validatiedoeleinden en moet niet worden gewijzigd.
URL:https://rvnhub.nl/event/meet-up-mook-en-middelaar-3/
LOCATION:Gemeentehuis Mook & Middelaar\, Raadhuisplein 6\, Mook en Middelaar
CATEGORIES:Meet Up
END:VEVENT
BEGIN:VEVENT
DTSTART;TZID=Europe/Amsterdam:20190430T143000
DTEND;TZID=Europe/Amsterdam:20190430T163000
DTSTAMP:20260424T103455
CREATED:20190423T071930Z
LAST-MODIFIED:20190423T082528Z
UID:6073-1556634600-1556641800@rvnhub.nl
SUMMARY:Meet Up Heumen
DESCRIPTION:Eens per veertien dagen is het programmabureau van RvN@ aanwezig op locatie in een van de zeven gemeenten van het Rijk van Nijmegen\, in een  RvN@HUB of een gemeentehuis. Hier kan je met RvN@ kennismaken\, jouw regionale initiatief of idee persoonlijk aan iemand van RvN@ voorleggen en (hulp)vragen stellen. Op basis daarvan worden eventuele vervolggesprekken en acties gepland. De Meet Ups worden drukbezocht en omdat RvN@ zoveel mogelijk mensen wil spreken\, is er daar geen ruimte voor uitgebreide presentaties en is aanmelden verplicht. \nBen jij een ondernemer of heb jij een innovatief initiatief voor de regio? En wil je een afspraak maken op een Meet Up? Vul dan het onderstaande formulier in. \n  \n\n                \n                        Voornaam*TussenvoegselAchternaam*Telefoon*E-mailadres*\n                            \n                        Komt voor:*Kennismaking met RvN@Bespreking van een idee of projectWaar wil je over praten?*Wil je de RvN@ nieuwsbrief en aankondigingen van evenementen ontvangen?\n			\n				\n				Ja\n			\n			\n				\n				Die ontvang ik al\n			\n			\n				\n				Nee\n			CAPTCHAEmailDit veld is bedoeld voor validatiedoeleinden en moet niet worden gewijzigd.
URL:https://rvnhub.nl/event/meet-up-heumen-2-2/
LOCATION:Gemeentehuis Heumen\, Kerkplein 6\, Malden
CATEGORIES:Meet Up
END:VEVENT
BEGIN:VEVENT
DTSTART;TZID=Europe/Amsterdam:20181204T143000
DTEND;TZID=Europe/Amsterdam:20181204T163000
DTSTAMP:20260424T103455
CREATED:20181122T194852Z
LAST-MODIFIED:20181123T150156Z
UID:5038-1543933800-1543941000@rvnhub.nl
SUMMARY:Meet Up Druten
DESCRIPTION:Eens per veertien dagen is het programmabureau van RvN@ aanwezig op locatie in een van de zeven gemeenten van het Rijk van Nijmegen\, in een  RvN@HUB of een gemeentehuis. Hier kan je met RvN@ kennismaken\, jouw regionale initiatief of idee persoonlijk aan iemand van RvN@ voorleggen en (hulp)vragen stellen. Op basis daarvan worden eventuele vervolggesprekken en acties gepland. De Meet Ups worden drukbezocht en omdat RvN@ zoveel mogelijk mensen wil spreken\, is er daar geen ruimte voor uitgebreide presentaties. \nBen jij een ondernemer of heb jij een innovatief initiatief voor de regio? En wil je een afspraak maken op een Meet Up? Vul dan het onderstaande formulier in. \n\n                \n                        Voornaam*TussenvoegselAchternaam*Telefoon*E-mailadres*\n                            \n                        Komt voor:*Kennismaking met RvN@Bespreking van een idee of projectWaar wil je over praten?*Wil je de RvN@ nieuwsbrief en aankondigingen van evenementen ontvangen?\n			\n				\n				Ja\n			\n			\n				\n				Die ontvang ik al\n			\n			\n				\n				Nee\n			CAPTCHAEmailDit veld is bedoeld voor validatiedoeleinden en moet niet worden gewijzigd.
URL:https://rvnhub.nl/event/meet-up-druten-2/
LOCATION:Rabobank Maas en Waal\, Van Heemstraweg 58\, Druten
CATEGORIES:Meet Up
ATTACH;FMTTYPE=image/png:https://rvnhub.nl/wp-content/uploads/2018/09/Druten.png
END:VEVENT
BEGIN:VEVENT
DTSTART;TZID=Europe/Amsterdam:20180605T100000
DTEND;TZID=Europe/Amsterdam:20180605T120000
DTSTAMP:20260424T103455
CREATED:20180525T123243Z
LAST-MODIFIED:20180604T123805Z
UID:3365-1528192800-1528200000@rvnhub.nl
SUMMARY:Meet Up Wijchen
DESCRIPTION:Ben je ondernemer en heb je een goed idee waarmee je innovatie\, leefbaarheid\, circulariteit en of vitaliteit in de regio bevordert? Wil je weten hoe RvN@ je kan helpen om jouw idee te accelereren? Bezit je kennis\, vaardigheden of middelen en zou je willen weten hoe je die voor de regio in kunt zetten? \nEens per veertien dagen is het programmabureau van RvN@ aanwezig op locatie in een van de zeven gemeenten van het Rijk van Nijmegen. Bij een van de RvN@HUBs of in een van de gemeentehuizen. Op afspraak wordt daar gesproken over initiatieven in de gemeente en wordt contact gelegd met lokale ondernemers en ambtenaren. \nWil jij RvN@ ontmoeten om een voorstel of initiatief te bespreken\, of zoek je meer informatie over de beweging RvN@? \nVul dan hier het formulier in: \n\n                \n                        Voornaam*TussenvoegselAchternaam*Telefoon*E-mailadres*\n                            \n                        Komt voor:*Kennismaking met RvN@Bespreking van een idee of projectWaar wil je over praten?*Wil je de RvN@ nieuwsbrief en aankondigingen van evenementen ontvangen?\n			\n				\n				Ja\n			\n			\n				\n				Die ontvang ik al\n			\n			\n				\n				Nee\n			CAPTCHACommentsDit veld is bedoeld voor validatiedoeleinden en moet niet worden gewijzigd.
URL:https://rvnhub.nl/event/meet-up/
LOCATION:Gemeentehuis Wijchen\, Kasteellaan 27\, Wijchen
CATEGORIES:Meet Up
ATTACH;FMTTYPE=image/png:https://rvnhub.nl/wp-content/uploads/2018/05/Wijchen.png
END:VEVENT
BEGIN:VEVENT
DTSTART;TZID=Europe/Amsterdam:20180524T100000
DTEND;TZID=Europe/Amsterdam:20180524T120000
DTSTAMP:20260424T103455
CREATED:20180515T134718Z
LAST-MODIFIED:20180515T143609Z
UID:3248-1527156000-1527163200@rvnhub.nl
SUMMARY:Meet Up Berg en Dal
DESCRIPTION:Eens per veertien dagen is het programmabureau van RvN@ aanwezig op locatie in een van de zeven gemeenten van het Rijk van Nijmegen. Bij een van de RvN@HUBs of in een van de gemeentehuizen. Op afspraak wordt daar gesproken over initiatieven in de gemeente en wordt contact gelegd met lokale ondernemers en ambtenaren. \nWil jij programmabureaudirecteur Kristie Lamers ontmoeten om een voorstel of initiatief te bespreken\, of zoek je meer informatie over de beweging RvN@? Vul dan hier het formulier in: \n                \n                        Voornaam*TussenvoegselAchternaam*Telefoon*E-mailadres*\n                            \n                        Komt voor:*Kennismaking met RvN@Bespreking van een idee of projectWaar wil je over praten?*Wil je de RvN@ nieuwsbrief en aankondigingen van evenementen ontvangen?\n			\n				\n				Ja\n			\n			\n				\n				Die ontvang ik al\n			\n			\n				\n				Nee\n			CAPTCHACommentsDit veld is bedoeld voor validatiedoeleinden en moet niet worden gewijzigd.
URL:https://rvnhub.nl/event/meet-up-berg-en-dal-2/
LOCATION:Gemeentehuis Berg en Dal\, Dorpsplein 1\, Groesbeek
CATEGORIES:Meet Up
END:VEVENT
BEGIN:VEVENT
DTSTART;TZID=Europe/Amsterdam:20180508T100000
DTEND;TZID=Europe/Amsterdam:20180508T120000
DTSTAMP:20260424T103455
CREATED:20180417T090008Z
LAST-MODIFIED:20180515T143543Z
UID:3036-1525773600-1525780800@rvnhub.nl
SUMMARY:Meet Up Kleve
DESCRIPTION:
URL:https://rvnhub.nl/event/meet-up-kleve/
CATEGORIES:Meet Up
END:VEVENT
BEGIN:VEVENT
DTSTART;TZID=Europe/Amsterdam:20180424T093000
DTEND;TZID=Europe/Amsterdam:20180424T113000
DTSTAMP:20260424T103455
CREATED:20180406T083241Z
LAST-MODIFIED:20180417T123613Z
UID:2840-1524562200-1524569400@rvnhub.nl
SUMMARY:Meet Up Heumen
DESCRIPTION:Eens per veertien dagen is het programmabureau van RvN@ aanwezig op locatie in een van de zeven gemeenten van het Rijk van Nijmegen. Bij een van de RvN@HUBs of in een van de gemeentehuizen. Op afspraak wordt daar gesproken over initiatieven in de gemeente en wordt contact gelegd met lokale ondernemers en ambtenaren. \nWil jij programmabureaudirecteur Kristie Lamers ontmoeten om een voorstel of initiatief te bespreken\, of zoek je meer informatie over de beweging RvN@? Vul dan hier het formulier in: \n                \n                        Voornaam*TussenvoegselAchternaam*Telefoon*E-mailadres*\n                            \n                        Komt voor:*Kennismaking met RvN@Bespreking van een idee of projectWaar wil je over praten?*Wil je de RvN@ nieuwsbrief en aankondigingen van evenementen ontvangen?\n			\n				\n				Ja\n			\n			\n				\n				Die ontvang ik al\n			\n			\n				\n				Nee\n			CAPTCHACommentsDit veld is bedoeld voor validatiedoeleinden en moet niet worden gewijzigd.\n          \n            \n            \n            \n            \n            \n            \n            \n            \n            \n            \n            \n            \n        \n                        \n                        \n \n 
URL:https://rvnhub.nl/event/meet-up-heumen/
LOCATION:Gemeentehuis Heumen\, Kerkplein 6\, Malden
CATEGORIES:Meet Up
END:VEVENT
BEGIN:VEVENT
DTSTART;TZID=Europe/Amsterdam:20180412T100000
DTEND;TZID=Europe/Amsterdam:20180412T120000
DTSTAMP:20260424T103455
CREATED:20180330T095635Z
LAST-MODIFIED:20180330T101953Z
UID:2820-1523527200-1523534400@rvnhub.nl
SUMMARY:Meet-Up Beuningen
DESCRIPTION:Eens per veertien dagen is het programmabureau van RvN@ aanwezig op locatie in een van de zeven gemeenten van het Rijk van Nijmegen. Bij een van de RvN@HUBs of in een van de gemeentehuizen. Op afspraak wordt daar gesproken over initiatieven in de gemeente en wordt contact gelegd met lokale ondernemers en ambtenaren. \nWil jij programmabureaudirecteur Kristie Lamers ontmoeten om een voorstel of initiatief te bespreken\, of zoek je meer informatie over de beweging RvN@? Vul dan hier het formulier in: \n                \n                        \n                             \n                        \n                        Voornaam*TussenvoegselAchternaam*Telefoon*E-mailadres*\n                            \n                        Komt voor:*Kennismaking met RvN@Bespreking van een idee of projectWaar wil je over praten?*Wil je de RvN@ nieuwsbrief en aankondigingen van evenementen ontvangen?\n			\n				\n				Ja\n			\n			\n				\n				Die ontvang ik al\n			\n			\n				\n				Nee\n			CAPTCHAEmailDit veld is bedoeld voor validatiedoeleinden en moet niet worden gewijzigd.
URL:https://rvnhub.nl/event/meet-up-beuningen/
LOCATION:Zolderpark Beuningen\, Mauritsplein 1\, Beuningen\, 6641 BK
CATEGORIES:Meet Up
ATTACH;FMTTYPE=image/png:https://rvnhub.nl/wp-content/uploads/2018/03/RvN@Beuningen.png
END:VEVENT
BEGIN:VEVENT
DTSTART;TZID=Europe/Amsterdam:20180322T140000
DTEND;TZID=Europe/Amsterdam:20180322T160000
DTSTAMP:20260424T103455
CREATED:20180206T113250Z
LAST-MODIFIED:20180309T150129Z
UID:2303-1521727200-1521734400@rvnhub.nl
SUMMARY:Meet Up Druten
DESCRIPTION:Eens per veertien dagen is het programmabureau van RvN@ aanwezig op locatie in een van de zeven gemeenten van het Rijk van Nijmegen. Bij een van de RvN@HUBs of in een van de gemeentehuizen. Op afspraak wordt daar gesproken over initiatieven in de gemeente en wordt contact gelegd met lokale ondernemers en ambtenaren. \nWil jij programmabureaudirecteur Kristie Lamers ontmoeten om een voorstel of initiatief te bespreken\, of zoek je meer informatie over de beweging RvN@? Vul dan hier het formulier in:\n                \n                        \n                             \n                        \n                        Voornaam*TussenvoegselAchternaam*Telefoon*E-mailadres*\n                            \n                        Komt voor:*Kennismaking met RvN@Bespreking van een idee of projectWaar wil je over praten?*Wil je de RvN@ nieuwsbrief en aankondigingen van evenementen ontvangen?\n			\n				\n				Ja\n			\n			\n				\n				Die ontvang ik al\n			\n			\n				\n				Nee\n			CAPTCHAPhoneDit veld is bedoeld voor validatiedoeleinden en moet niet worden gewijzigd.
URL:https://rvnhub.nl/event/meet-up-druten/
LOCATION:Rabobank Maas en Waal\, Van Heemstraweg 58\, Druten
CATEGORIES:Meet Up
END:VEVENT
BEGIN:VEVENT
DTSTART;TZID=Europe/Amsterdam:20180306T100000
DTEND;TZID=Europe/Amsterdam:20180306T120000
DTSTAMP:20260424T103455
CREATED:20180207T082910Z
LAST-MODIFIED:20180515T143703Z
UID:2339-1520330400-1520337600@rvnhub.nl
SUMMARY:Meet Up Mook en Middelaar
DESCRIPTION:Eens per veertien dagen is het programmabureau van RvN@ aanwezig op locatie in een van de zeven gemeenten van het Rijk van Nijmegen. Bij een van de RvN@HUBs of in een van de gemeentehuizen. Op afspraak wordt daar gesproken over initiatieven in de gemeente en wordt contact gelegd met lokale ondernemers en ambtenaren. \nWil jij programmabureaudirecteur Kristie Lamers ontmoeten om een voorstel of initiatief te bespreken\, of zoek je meer informatie over de beweging RvN@? Vul dan hier het formulier in:\n                \n                        \n                             \n                        \n                        Voornaam*TussenvoegselAchternaam*Telefoon*E-mailadres*\n                            \n                        Komt voor:*Kennismaking met RvN@Bespreking van een idee of projectWaar wil je over praten?*Wil je de RvN@ nieuwsbrief en aankondigingen van evenementen ontvangen?\n			\n				\n				Ja\n			\n			\n				\n				Die ontvang ik al\n			\n			\n				\n				Nee\n			CAPTCHANameDit veld is bedoeld voor validatiedoeleinden en moet niet worden gewijzigd.
URL:https://rvnhub.nl/event/meet-up-mook-en-middelaar/
LOCATION:Gemeentehuis Mook & Middelaar\, Raadhuisplein 6\, Mook en Middelaar
CATEGORIES:Meet Up
END:VEVENT
BEGIN:VEVENT
DTSTART;TZID=Europe/Amsterdam:20180220T100000
DTEND;TZID=Europe/Amsterdam:20180220T120000
DTSTAMP:20260424T103455
CREATED:20180207T082727Z
LAST-MODIFIED:20180515T143748Z
UID:2336-1519120800-1519128000@rvnhub.nl
SUMMARY:Meet Up Wijchen
DESCRIPTION:Eens per veertien dagen is het programmabureau van RvN@ aanwezig op locatie in een van de zeven gemeenten van het Rijk van Nijmegen. Bij een van de RvN@HUBs of in een van de gemeentehuizen. Op afspraak wordt daar gesproken over initiatieven in de gemeente en wordt contact gelegd met lokale ondernemers en ambtenaren. \nWil jij programmabureaudirecteur Kristie Lamers ontmoeten om een voorstel of initiatief te bespreken\, of zoek je meer informatie over de beweging RvN@? Vul dan hier het formulier in:\n                \n                        \n                             \n                        \n                        Voornaam*TussenvoegselAchternaam*Telefoon*E-mailadres*\n                            \n                        Komt voor:*Kennismaking met RvN@Bespreking van een idee of projectWaar wil je over praten?*Wil je de RvN@ nieuwsbrief en aankondigingen van evenementen ontvangen?\n			\n				\n				Ja\n			\n			\n				\n				Die ontvang ik al\n			\n			\n				\n				Nee\n			CAPTCHAEmailDit veld is bedoeld voor validatiedoeleinden en moet niet worden gewijzigd.
URL:https://rvnhub.nl/event/meet-up-wijchen/
LOCATION:Gemeentehuis Wijchen\, Kasteellaan 27\, Wijchen
CATEGORIES:Meet Up
END:VEVENT
BEGIN:VEVENT
DTSTART;TZID=Europe/Amsterdam:20180206T140000
DTEND;TZID=Europe/Amsterdam:20180206T170000
DTSTAMP:20260424T103455
CREATED:20180130T075149Z
LAST-MODIFIED:20180206T141159Z
UID:2121-1517925600-1517936400@rvnhub.nl
SUMMARY:Meet Up Berg en Dal
DESCRIPTION:Eens per veertien dagen is het programmabureau van RvN@ aanwezig op locatie in een van de zeven gemeenten van het Rijk van Nijmegen. Bij een van de RvN@HUBs of in een van de gemeentehuizen. Op afspraak wordt daar gesproken over initiatieven in de gemeente en wordt contact gelegd met lokale ondernemers en ambtenaren. \nWil jij programmabureaudirecteur Kristie Lamers ontmoeten om een voorstel of initiatief te bespreken\, of zoek je meer informatie over de beweging RvN@? Vul dan hier het formulier in: \n\n                \n                        Voornaam*TussenvoegselAchternaam*Telefoon*E-mailadres*\n                            \n                        Komt voor:*Kennismaking met RvN@Bespreking van een idee of projectWaar wil je over praten?*Wil je de RvN@ nieuwsbrief en aankondigingen van evenementen ontvangen?\n			\n				\n				Ja\n			\n			\n				\n				Die ontvang ik al\n			\n			\n				\n				Nee\n			CAPTCHACommentsDit veld is bedoeld voor validatiedoeleinden en moet niet worden gewijzigd.
URL:https://rvnhub.nl/event/meet-up-berg-en-dal/
LOCATION:Gemeentehuis Berg en Dal\, Dorpsplein 1\, Groesbeek
CATEGORIES:Meet Up
END:VEVENT
END:VCALENDAR